BEGIN:VCALENDAR
VERSION:2.0
PRODID:Events Booking
BEGIN:VEVENT
UID:69e8796ca5f42
SUMMARY:Shuttles | Oberwallis
DESCRIPTION:
 
 
 Schwierigkeit
 
 2/4
 
 
 
 Ausdauer
 
 2/4
 
 
 
 
 Bike
 
 BIKE EBIKE
 
 
LOCATION:Gare de Martigny-Croix\, avenue du Grand-Saint-Bernard\, 1921 Mart
 igny
DTSTART:20250722T070000Z
DTEND:20250722T160000Z
DTSTAMP:20250716T042910Z
ORGANIZER;CN=Exoride:MAILTO:webmaster@exoride.net
GEO:46.086667;7.057958
X-APPLE-STRUCTURED-LOCATION;VALUE=URI;X-ADDRESS=Gare de Martigny-Croix\, av
 enue du Grand-Saint-Bernard\, 1921 Martigny;X-APPLE-RADIUS=72;X-TITLE=Wall
 is:46.086667;7.057958
END:VEVENT
END:VCALENDAR