BEGIN:VCALENDAR
VERSION:2.0
PRODID:Events Booking
BEGIN:VEVENT
UID:69e8797b54954
SUMMARY:Swiss Made | July 2021
DESCRIPTION:
DTSTART:20210724T100000Z
DTEND:20210731T100000Z
DTSTAMP:20260422T093211Z
ORGANIZER;CN=Exoride:MAILTO:webmaster@exoride.net
END:VEVENT
END:VCALENDAR