BEGIN:VCALENDAR
VERSION:2.0
PRODID:Events Booking
BEGIN:VEVENT
UID:69e8a1151619c
SUMMARY:E-MTB | Private
DESCRIPTION:
LOCATION:Gare de Martigny-Croix\, avenue du Grand-Saint-Bernard\, 1921 Mart
 igny
DTSTART:20210508T060000Z
DTEND:20210508T180000Z
DTSTAMP:20260422T122109Z
ORGANIZER;CN=Exoride:MAILTO:webmaster@exoride.net
GEO:46.086667;7.057958
X-APPLE-STRUCTURED-LOCATION;VALUE=URI;X-ADDRESS=Gare de Martigny-Croix\, av
 enue du Grand-Saint-Bernard\, 1921 Martigny;X-APPLE-RADIUS=72;X-TITLE=Wall
 is:46.086667;7.057958
END:VEVENT
END:VCALENDAR