BEGIN:VCALENDAR
VERSION:2.0
PRODID:Events Booking
BEGIN:VEVENT
UID:69e87a05aa30b
SUMMARY:[MTB | Anfänger] Leysin
DESCRIPTION:
LOCATION:Belvédère 1\, 1854 Leysin\, Suisse
DTSTART:20210614T073000Z
DTEND:20210614T150000Z
DTSTAMP:20260422T093429Z
ORGANIZER;CN=Exoride:MAILTO:webmaster@exoride.net
GEO:46.346752;7.017816
X-APPLE-STRUCTURED-LOCATION;VALUE=URI;X-ADDRESS=Belvédère 1\, 1854 Leysin
 \, Suisse;X-APPLE-RADIUS=72;X-TITLE=:46.346752;7.017816
END:VEVENT
END:VCALENDAR