BEGIN:VCALENDAR
VERSION:2.0
PRODID:Events Booking
BEGIN:VEVENT
UID:69e89019a973f
SUMMARY:Unterwallis | Level: 3/4
DESCRIPTION:
LOCATION:Route de Martigny 59\, 1926 Fully\, Suisse
DTSTART:20210613T073000Z
DTEND:20210613T153000Z
DTSTAMP:20260422T110841Z
ORGANIZER;CN=Exoride:MAILTO:webmaster@exoride.net
GEO:46.134548;7.111749
X-APPLE-STRUCTURED-LOCATION;VALUE=URI;X-ADDRESS=Route de Martigny 59\, 1926
  Fully\, Suisse;X-APPLE-RADIUS=72;X-TITLE=:46.134548;7.111749
END:VEVENT
END:VCALENDAR