BEGIN:VCALENDAR
VERSION:2.0
PRODID:Events Booking
BEGIN:VEVENT
UID:69e87a0b69fbf
SUMMARY:[MTB | Fortgeschrittene] Verbier
DESCRIPTION:
LOCATION:La Douay 12\, 1937 Orsières\, Suisse
DTSTART:20210719T113000Z
DTEND:20210719T153000Z
DTSTAMP:20260422T093435Z
ORGANIZER;CN=Exoride:MAILTO:webmaster@exoride.net
GEO:46.053147;7.15002
X-APPLE-STRUCTURED-LOCATION;VALUE=URI;X-ADDRESS=La Douay 12\, 1937 Orsière
 s\, Suisse;X-APPLE-RADIUS=72;X-TITLE=:46.053147;7.15002
END:VEVENT
END:VCALENDAR