BEGIN:VCALENDAR
VERSION:2.0
PRODID:Events Booking
BEGIN:VEVENT
UID:69e8797bd5bc6
SUMMARY:Swiss Made | July 2021
DESCRIPTION:
DTSTART:20210813T100000Z
DTEND:20210820T100000Z
DTSTAMP:20260422T093211Z
ORGANIZER;CN=Exoride:MAILTO:webmaster@exoride.net
END:VEVENT
END:VCALENDAR