BEGIN:VCALENDAR
VERSION:2.0
PRODID:Events Booking
BEGIN:VEVENT
UID:69e8a539ac847
SUMMARY:Swiss Made | July 2022
DESCRIPTION:
DTSTART:20220722T100000Z
DTEND:20220729T100000Z
DTSTAMP:20260422T123849Z
ORGANIZER;CN=Exoride:MAILTO:webmaster@exoride.net
END:VEVENT
END:VCALENDAR