BEGIN:VCALENDAR
VERSION:2.0
PRODID:Events Booking
BEGIN:VEVENT
UID:69e88f92e3a7b
SUMMARY:Swiss Made | Juny 2022
DESCRIPTION:
DTSTART:20220625T100000Z
DTEND:20220702T100000Z
DTSTAMP:20260422T110626Z
ORGANIZER;CN=Exoride:MAILTO:webmaster@exoride.net
END:VEVENT
END:VCALENDAR