BEGIN:VCALENDAR
VERSION:2.0
PRODID:Events Booking
BEGIN:VEVENT
UID:69e890165fb9c
SUMMARY:[MTB | Fortgeschrittene] Verbier
DESCRIPTION:
LOCATION:Le Châble TV\, 1934 Bagnes\, Suisse
DTSTART:20210929T113000Z
DTEND:20210929T153000Z
DTSTAMP:20260422T110838Z
ORGANIZER;CN=Exoride:MAILTO:webmaster@exoride.net
GEO:46.078086;7.21497
X-APPLE-STRUCTURED-LOCATION;VALUE=URI;X-ADDRESS=Le Châble TV\, 1934 Bagnes
 \, Suisse;X-APPLE-RADIUS=72;X-TITLE=Châble Parkplatz:46.078086;7.21497
END:VEVENT
END:VCALENDAR