BEGIN:VCALENDAR
VERSION:2.0
PRODID:Events Booking
BEGIN:VEVENT
UID:69e87a0515514
SUMMARY:[MTB & E-BIKE | Fortgeschrittene] Verbier
DESCRIPTION:
LOCATION:Rue de Médran 41\, 1936 Verbier\, Suisse
DTSTART:20220802T070000Z
DTEND:20220802T113000Z
DTSTAMP:20260422T093429Z
ORGANIZER;CN=Exoride:MAILTO:webmaster@exoride.net
GEO:46.093655;7.233627
X-APPLE-STRUCTURED-LOCATION;VALUE=URI;X-ADDRESS=Rue de Médran 41\, 1936 Ve
 rbier\, Suisse;X-APPLE-RADIUS=72;X-TITLE=:46.093655;7.233627
END:VEVENT
END:VCALENDAR