BEGIN:VCALENDAR
VERSION:2.0
PRODID:Events Booking
BEGIN:VEVENT
UID:69e8a559a96f3
SUMMARY:[MTB & E-BIKE | Privät] Verbier
DESCRIPTION:
LOCATION:Rue de Médran 41\, 1936 Verbier\, Suisse
DTSTART:20220823T070000Z
DTEND:20220823T110000Z
DTSTAMP:20260422T123921Z
ORGANIZER;CN=Exoride:MAILTO:webmaster@exoride.net
GEO:46.093655;7.233627
X-APPLE-STRUCTURED-LOCATION;VALUE=URI;X-ADDRESS=Rue de Médran 41\, 1936 Ve
 rbier\, Suisse;X-APPLE-RADIUS=72;X-TITLE=:46.093655;7.233627
END:VEVENT
END:VCALENDAR