BEGIN:VCALENDAR
VERSION:2.0
PRODID:Events Booking
BEGIN:VEVENT
UID:69e877e6ed96d
SUMMARY:[E-BIKE | Mittlere] Martigny
DESCRIPTION:
LOCATION:Parking belle Usine\, Rte du Soleil 20\, 1926 Fully\, Suisse
DTSTART:20221006T073000Z
DTEND:20221006T153000Z
DTSTAMP:20260422T092526Z
ORGANIZER;CN=Exoride:MAILTO:webmaster@exoride.net
GEO:46.142557;7.115994
X-APPLE-STRUCTURED-LOCATION;VALUE=URI;X-ADDRESS=Parking belle Usine\, Rte d
 u Soleil 20\, 1926 Fully\, Suisse;X-APPLE-RADIUS=72;X-TITLE=:46.142557;7.1
 15994
END:VEVENT
END:VCALENDAR