BEGIN:VCALENDAR
VERSION:2.0
PRODID:Events Booking
BEGIN:VEVENT
UID:69e890f5c22d1
SUMMARY:Endu'Rock the Casbah | Februar 2023
DESCRIPTION:
DTSTART:20221223T080000Z
DTEND:20221230T110000Z
DTSTAMP:20260422T111221Z
ORGANIZER;CN=Exoride:MAILTO:webmaster@exoride.net
END:VEVENT
END:VCALENDAR