BEGIN:VCALENDAR
VERSION:2.0
PRODID:Events Booking
BEGIN:VEVENT
UID:69e890967f2a9
SUMMARY:Endu'Rock the Casbah | März 2023
DESCRIPTION:
DTSTART:20230325T080000Z
DTEND:20230401T100000Z
DTSTAMP:20260422T111046Z
ORGANIZER;CN=Exoride:MAILTO:webmaster@exoride.net
END:VEVENT
END:VCALENDAR