BEGIN:VCALENDAR
VERSION:2.0
PRODID:Events Booking
BEGIN:VEVENT
UID:69e890ca1a0f9
SUMMARY:Endu'Rock the Casbah | Oktober 2023
DESCRIPTION:
DTSTART:20231103T080000Z
DTEND:20231110T110000Z
DTSTAMP:20260422T111138Z
ORGANIZER;CN=Exoride:MAILTO:webmaster@exoride.net
END:VEVENT
END:VCALENDAR