BEGIN:VCALENDAR
VERSION:2.0
PRODID:Events Booking
BEGIN:VEVENT
UID:69e8909c34385
SUMMARY:M'goun Hike & Ride
DESCRIPTION:
 
 
 Schwierigkeit
 
 3/4
 
 
 
 Ausdauer
 
 3/4
 
 
 
 
 Bike
 
 BIKE EBIKE
 
 
DTSTART:20250703T070000Z
DTEND:20250710T100000Z
DTSTAMP:20260422T111052Z
ORGANIZER;CN=Exoride:MAILTO:webmaster@exoride.net
END:VEVENT
END:VCALENDAR