BEGIN:VCALENDAR
VERSION:2.0
PRODID:Events Booking
BEGIN:VEVENT
UID:69e8a3c20bbf1
SUMMARY:Endu'Rock the Casbah | Octobre 2015
DESCRIPTION:[widgetkit id=\"1\" name=\"Slideshow - aper&ccedil\;u - Enduroc
 k - FR\"]
DTSTART:20151024T070000Z
DTEND:20151031T110000Z
DTSTAMP:20260422T123234Z
ORGANIZER;CN=Exoride:MAILTO:webmaster@exoride.net
END:VEVENT
END:VCALENDAR