BEGIN:VCALENDAR
VERSION:2.0
PRODID:Events Booking
BEGIN:VEVENT
UID:69e8a47d584f1
SUMMARY:Les Pyramides d'Euseigne
DESCRIPTION:[widgetkit id=\"83\" name=\"Slideshow - aper&ccedil\;u - Euseig
 ne - FR\"]
DTSTART:20150509T080000Z
DTEND:20150509T140000Z
DTSTAMP:20260422T123541Z
ORGANIZER;CN=Exoride:MAILTO:webmaster@exoride.net
END:VEVENT
END:VCALENDAR