BEGIN:VCALENDAR
VERSION:2.0
PRODID:Events Booking
BEGIN:VEVENT
UID:69e8b8097dd70
SUMMARY:Cours de pilotage VTT | Niveau intermédiaire/avancé
DESCRIPTION:[widgetkit id=\"97\" name=\"Slideshow - aper&ccedil\;u - Cours 
 pilotage - FR\"]
 Ce cours se d&eacute\;roule sur le bikepark de Verbier 
 (VS)
 Cours de pilotage VTT pour pratiquant de niveau interm&eacute\;diai
 re/avanc&eacute\;\, comprenant la journ&eacute\;e de cours\, la location d
 u VTT et des protections.
 Plus d'infos &gt\;&gt\;
DTSTART:20170916T070000Z
DTEND:20170916T150000Z
DTSTAMP:20260422T135905Z
ORGANIZER;CN=Exoride:MAILTO:webmaster@exoride.net
END:VEVENT
END:VCALENDAR