BEGIN:VCALENDAR
VERSION:2.0
PRODID:Events Booking
BEGIN:VEVENT
UID:69e8bb65dc3d7
SUMMARY:Endu'Rock the Casbah
DESCRIPTION:
 
 Difficulty
 3/4
 
 
 Endurance
 2/4
 
 
 Bike
 M
 TB EMTB
 
 
DTSTART:20251122T080000Z
DTEND:20251129T110000Z
DTSTAMP:20260422T141325Z
ORGANIZER;CN=Exoride:MAILTO:webmaster@exoride.net
END:VEVENT
END:VCALENDAR