BEGIN:VCALENDAR
VERSION:2.0
PRODID:Events Booking
BEGIN:VEVENT
UID:69e8b9195e5b4
SUMMARY:Cours privé MF
DESCRIPTION:[widgetkit id=\"97\" name=\"Slideshow - aperçu - Cours pilotag
 e - FR\"]
DTSTART:20170708T070000Z
DTEND:20170708T160000Z
DTSTAMP:20260422T140337Z
ORGANIZER;CN=Exoride:MAILTO:webmaster@exoride.net
END:VEVENT
END:VCALENDAR