BEGIN:VCALENDAR
VERSION:2.0
PRODID:Events Booking
BEGIN:VEVENT
UID:69e8a66d68c5e
SUMMARY:EBIKE | Ferret Valley
DESCRIPTION:
 
 Difficulty
 3\,5/4
 
 
 Endurance
 3\,5/4
 
 
 Bi
 ke
 MTB EMTB
 
 
LOCATION:Rte de la Gare 19\, 1937 Orsières\, Suisse
DTSTART:20250903T070000Z
DTEND:20250903T170000Z
DTSTAMP:20231118T160752Z
ORGANIZER;CN=Exoride:MAILTO:webmaster@exoride.net
GEO:46.029836;7.14367
X-APPLE-STRUCTURED-LOCATION;VALUE=URI;X-ADDRESS=Rte de la Gare 19\, 1937 Or
 sières\, Suisse;X-APPLE-RADIUS=72;X-TITLE=Orsières:46.029836;7.14367
END:VEVENT
END:VCALENDAR