BEGIN:VCALENDAR
VERSION:2.0
PRODID:Events Booking
BEGIN:VEVENT
UID:69e8cd222fa3d
SUMMARY:Cours privé NA
DESCRIPTION:[widgetkit id=\"97\" name=\"Slideshow - aper&ccedil\;u - Cours 
 pilotage - FR\"]
DTSTART:20170821T110000Z
DTEND:20170821T150000Z
DTSTAMP:20260422T152906Z
ORGANIZER;CN=Exoride:MAILTO:webmaster@exoride.net
END:VEVENT
END:VCALENDAR