BEGIN:VCALENDAR
VERSION:2.0
PRODID:Events Booking
BEGIN:VEVENT
UID:69e8cd1e00e91
SUMMARY:Cours privé CM
DESCRIPTION:[widgetkit id=\"97\" name=\"Slideshow - aper&ccedil\;u - Cours 
 pilotage - FR\"]
DTSTART:20170714T100000Z
DTEND:20170714T150000Z
DTSTAMP:20260422T152902Z
ORGANIZER;CN=Exoride:MAILTO:webmaster@exoride.net
END:VEVENT
END:VCALENDAR