BEGIN:VCALENDAR
VERSION:2.0
PRODID:Events Booking
BEGIN:VEVENT
UID:69e8b6514f783
SUMMARY:Endu'Rock the Casbah | Nouvel An 2017
DESCRIPTION:[widgetkit id=\"1\" name=\"Slideshow - aper&ccedil\;u - Enduroc
 k - FR\"]
DTSTART:20171229T080000Z
DTEND:20180105T110000Z
DTSTAMP:20260422T135145Z
ORGANIZER;CN=Exoride:MAILTO:webmaster@exoride.net
END:VEVENT
END:VCALENDAR