BEGIN:VCALENDAR
VERSION:2.0
PRODID:Events Booking
BEGIN:VEVENT
UID:69e88ff3b738b
SUMMARY:Iran'duro | Mai 2018
DESCRIPTION:[widgetkit id=\"70\" name=\"Slideshow - aperçu - Iran - FR\"]
DTSTART:20180507T070000Z
DTEND:20180516T100000Z
DTSTAMP:20260422T110803Z
ORGANIZER;CN=Exoride:MAILTO:webmaster@exoride.net
END:VEVENT
END:VCALENDAR