BEGIN:VCALENDAR
VERSION:2.0
PRODID:Events Booking
BEGIN:VEVENT
UID:69e8a3a7a4386
SUMMARY:Endu'Rock the Casbah | Février 2018
DESCRIPTION:[widgetkit id=\"1\" name=\"Slideshow - aper&ccedil\;u - Enduroc
 k - FR\"]
DTSTART:20180207T080000Z
DTEND:20180214T110000Z
DTSTAMP:20260422T123207Z
ORGANIZER;CN=Exoride:MAILTO:webmaster@exoride.net
END:VEVENT
END:VCALENDAR