BEGIN:VCALENDAR
VERSION:2.0
PRODID:Events Booking
BEGIN:VEVENT
UID:69e8b473efc36
SUMMARY:Swiss Made | Juillet 2019
DESCRIPTION:[widgetkit id=\"68\" name=\"Slideshow - aperçu - Valais Expres
 s - FR\"]
DTSTART:20190701T100000Z
DTEND:20190708T100000Z
DTSTAMP:20260422T134347Z
ORGANIZER;CN=Exoride:MAILTO:webmaster@exoride.net
END:VEVENT
END:VCALENDAR