BEGIN:VCALENDAR
VERSION:2.0
PRODID:Events Booking
BEGIN:VEVENT
UID:69e8a33176942
SUMMARY:Valais Express | Avril 2018
DESCRIPTION:[widgetkit id=\"69\" name=\"Slideshow - aperçu - Valais Expres
 s - FR\"]
DTSTART:20180427T120000Z
DTEND:20180429T160000Z
DTSTAMP:20260422T123009Z
ORGANIZER;CN=Exoride:MAILTO:webmaster@exoride.net
END:VEVENT
END:VCALENDAR