BEGIN:VCALENDAR
VERSION:2.0
PRODID:Events Booking
BEGIN:VEVENT
UID:69e8baba0ad8d
SUMMARY:Le Grand Saint-Bernard 
DESCRIPTION:[widgetkit id=\"86\" name=\"Slideshow - aper&ccedil\;u - Saint 
 Bernard Light - FR\"]
DTSTART:20150621T070000Z
DTEND:20150621T150000Z
DTSTAMP:20260422T141034Z
ORGANIZER;CN=Exoride:MAILTO:webmaster@exoride.net
END:VEVENT
END:VCALENDAR