BEGIN:VCALENDAR
VERSION:2.0
PRODID:Events Booking
BEGIN:VEVENT
UID:69e8a543bf806
SUMMARY:Dolo'Mythic Ride | Septembre 2018
DESCRIPTION:[widgetkit id=\"71\" name=\"Slideshow - aper&ccedil\;u - Dolomy
 thic - FR\"]
DTSTART:20180903T100000Z
DTEND:20180909T100000Z
DTSTAMP:20260422T123859Z
ORGANIZER;CN=Exoride:MAILTO:webmaster@exoride.net
END:VEVENT
END:VCALENDAR