BEGIN:VCALENDAR
VERSION:2.0
PRODID:Events Booking
BEGIN:VEVENT
UID:69e8b51e57a93
SUMMARY:Khachapuride | 09.2018
DESCRIPTION:
DTSTART:20180921T220000Z
DTEND:20180929T220000Z
DTSTAMP:20260422T134638Z
ORGANIZER;CN=Exoride:MAILTO:webmaster@exoride.net
END:VEVENT
END:VCALENDAR