BEGIN:VCALENDAR
VERSION:2.0
PRODID:Events Booking
BEGIN:VEVENT
UID:69e8b9133741d
SUMMARY:PTRM-05.2018
DESCRIPTION:Private program from 28.04 to 03.05.2018.
 4 riding days from 
 29.04 to 02.05.2018\, guiding and shuttles
 Bike rental
 Accomodation ha
 lf board pension (breakfast and dinner)
 Video and photos
 
 Not includ
 ed : Transfer from GVA to Ravoire\, lunches and snacks\, beverage\, person
 al medical and travel insurance (mandatory)\, tips
 
DTSTART:20180427T220000Z
DTEND:20180502T220000Z
DTSTAMP:20260422T140331Z
ORGANIZER;CN=Exoride:MAILTO:webmaster@exoride.net
END:VEVENT
END:VCALENDAR