BEGIN:VCALENDAR
VERSION:2.0
PRODID:Events Booking
BEGIN:VEVENT
UID:69e8a5168bd3e
SUMMARY:Le Grand Saint-Bernard 
DESCRIPTION:[widgetkit id=\"88\" name=\"Slideshow - aper&ccedil\;u - Saint 
 Bernard - FR\"]
DTSTART:20160903T070000Z
DTEND:20160903T140000Z
DTSTAMP:20260422T123814Z
ORGANIZER;CN=Exoride:MAILTO:webmaster@exoride.net
END:VEVENT
END:VCALENDAR