BEGIN:VCALENDAR
VERSION:2.0
PRODID:Events Booking
BEGIN:VEVENT
UID:69e8b6514d6f8
SUMMARY:Cours de pilotage VTT | Niveau intermédiaire/avancé
DESCRIPTION:[widgetkit id=\"97\" name=\"Slideshow - aperçu - Cours pilotag
 e - FR\"]
 Ce cours se déroule sur le bikepark de Verbier (VS)
 Cours d
 e pilotage VTT pour pratiquant de niveau intermédiaire/avancé\, comprena
 nt la journée de cours\, la location du VTT et des protections.
 Plus d'
 infos &gt\;&gt\;
DTSTART:20180719T070000Z
DTEND:20180719T150000Z
DTSTAMP:20260422T135145Z
ORGANIZER;CN=Exoride:MAILTO:webmaster@exoride.net
END:VEVENT
END:VCALENDAR