BEGIN:VCALENDAR
VERSION:2.0
PRODID:Events Booking
BEGIN:VEVENT
UID:69e8b5662c24f
SUMMARY:Shuttle enduro en Valais
DESCRIPTION:
DTSTART:20180429T070000Z
DTEND:20180429T160000Z
DTSTAMP:20260422T134750Z
ORGANIZER;CN=Exoride:MAILTO:webmaster@exoride.net
END:VEVENT
END:VCALENDAR