BEGIN:VCALENDAR
VERSION:2.0
PRODID:Events Booking
BEGIN:VEVENT
UID:69e8b7762b5db
SUMMARY:Shuttle enduro en Valais
DESCRIPTION:
DTSTART:20181028T080000Z
DTEND:20181028T170000Z
DTSTAMP:20260422T135638Z
ORGANIZER;CN=Exoride:MAILTO:webmaster@exoride.net
END:VEVENT
END:VCALENDAR