BEGIN:VCALENDAR
VERSION:2.0
PRODID:Events Booking
BEGIN:VEVENT
UID:69e8bab05be9c
SUMMARY:Zago'Ride - Décembre 2018
DESCRIPTION:
DTSTART:20181201T070000Z
DTEND:20181208T110000Z
DTSTAMP:20260422T141024Z
ORGANIZER;CN=Exoride:MAILTO:webmaster@exoride.net
END:VEVENT
END:VCALENDAR