BEGIN:VCALENDAR
VERSION:2.0
PRODID:Events Booking
BEGIN:VEVENT
UID:69e8ba2a1ade7
SUMMARY:Le Brésilien
DESCRIPTION:[widgetkit id=\"90\" name=\"Slideshow - aperçu - Brésilien - 
 FR\"]
DTSTART:20150627T070000Z
DTEND:20150627T140000Z
DTSTAMP:20260422T140810Z
ORGANIZER;CN=Exoride:MAILTO:webmaster@exoride.net
END:VEVENT
END:VCALENDAR