BEGIN:VCALENDAR
VERSION:2.0
PRODID:Events Booking
BEGIN:VEVENT
UID:69e8bab0d33e6
SUMMARY:Zago'Ride - Février 2019
DESCRIPTION:
DTSTART:20190202T070000Z
DTEND:20190209T110000Z
DTSTAMP:20260422T141024Z
ORGANIZER;CN=Exoride:MAILTO:webmaster@exoride.net
END:VEVENT
END:VCALENDAR