BEGIN:VCALENDAR
VERSION:2.0
PRODID:Events Booking
BEGIN:VEVENT
UID:69e8c9dc5f95d
SUMMARY:Shuttle enduro en Valais
DESCRIPTION:
DTSTART:20180603T070000Z
DTEND:20180603T160000Z
DTSTAMP:20260422T151508Z
ORGANIZER;CN=Exoride:MAILTO:webmaster@exoride.net
END:VEVENT
END:VCALENDAR