BEGIN:VCALENDAR
VERSION:2.0
PRODID:Events Booking
BEGIN:VEVENT
UID:69e8b4478f3b6
SUMMARY:Cours de pilotage VTT | Niveau débutant
DESCRIPTION:[widgetkit id=\"97\" name=\"Slideshow - aperçu - Cours pilotag
 e - FR\"]
 Ce cours se déroule sur le bikepark de Verbier (VS)
 Initiat
 ion au pilotage VTT pour débutants\, comprenant la journée de cours\, la
  location du VTT et des protections.
 Plus d'infos &gt\;&gt\;
DTSTART:20180623T070000Z
DTEND:20180623T150000Z
DTSTAMP:20260422T134303Z
ORGANIZER;CN=Exoride:MAILTO:webmaster@exoride.net
END:VEVENT
END:VCALENDAR