BEGIN:VCALENDAR
VERSION:2.0
PRODID:Events Booking
BEGIN:VEVENT
UID:69e8ccfb5c2a0
SUMMARY:1807MF - Privé
DESCRIPTION:Sortie privée enduro en Valais.
DTSTART:20180716T060000Z
DTEND:20180716T160000Z
DTSTAMP:20260422T152827Z
ORGANIZER;CN=Exoride:MAILTO:webmaster@exoride.net
END:VEVENT
END:VCALENDAR