BEGIN:VCALENDAR
VERSION:2.0
PRODID:Events Booking
BEGIN:VEVENT
UID:69e8b46ed3986
SUMMARY:Cours de pilotage VTT | Niveau débutant/intermédiaire
DESCRIPTION:[widgetkit id=\"97\" name=\"Slideshow - aperçu - Cours pilotag
 e - FR\"]
 Ce cours se déroule sur le bikepark de Verbier (VS)
 Points 
 abordés : Franchissements\, parties raides\, virages à plat\, virages re
 levés\, petits sauts. Plus d'infos &gt\;&gt\;
DTSTART:20150614T070000Z
DTEND:20150614T150000Z
DTSTAMP:20260422T134342Z
ORGANIZER;CN=Exoride:MAILTO:webmaster@exoride.net
END:VEVENT
END:VCALENDAR