BEGIN:VCALENDAR
VERSION:2.0
PRODID:Events Booking
BEGIN:VEVENT
UID:69e8a3750dd6f
SUMMARY:Endu'Rock the Casbah | Avril 2019
DESCRIPTION:[widgetkit id=\"1\" name=\"Slideshow - aperçu - Endurock - FR\
 "]
DTSTART:20190417T070000Z
DTEND:20190424T100000Z
DTSTAMP:20260422T123117Z
ORGANIZER;CN=Exoride:MAILTO:webmaster@exoride.net
END:VEVENT
END:VCALENDAR