BEGIN:VCALENDAR
VERSION:2.0
PRODID:Events Booking
BEGIN:VEVENT
UID:69e8a58f975ca
SUMMARY:Valais Express | Avril 2019
DESCRIPTION:[widgetkit id=\"69\" name=\"Slideshow - aperçu - Valais Expres
 s - FR\"]
DTSTART:20190405T120000Z
DTEND:20190407T160000Z
DTSTAMP:20260422T124015Z
ORGANIZER;CN=Exoride:MAILTO:webmaster@exoride.net
END:VEVENT
END:VCALENDAR