BEGIN:VCALENDAR
VERSION:2.0
PRODID:Events Booking
BEGIN:VEVENT
UID:69e8a74a2af09
SUMMARY:Iran'duro | Mai 2019
DESCRIPTION:[widgetkit id=\"70\" name=\"Slideshow - aperçu - Iran - FR\"]
DTSTART:20190529T070000Z
DTEND:20190607T100000Z
DTSTAMP:20260422T124738Z
ORGANIZER;CN=Exoride:MAILTO:webmaster@exoride.net
END:VEVENT
END:VCALENDAR