BEGIN:VCALENDAR
VERSION:2.0
PRODID:Events Booking
BEGIN:VEVENT
UID:69e8a3b618655
SUMMARY:Iran'duro | Octobre 2019
DESCRIPTION:[widgetkit id=\"70\" name=\"Slideshow - aperçu - Iran - FR\"]
DTSTART:20191006T070000Z
DTEND:20191015T100000Z
DTSTAMP:20260422T123222Z
ORGANIZER;CN=Exoride:MAILTO:webmaster@exoride.net
END:VEVENT
END:VCALENDAR