BEGIN:VCALENDAR
VERSION:2.0
PRODID:Events Booking
BEGIN:VEVENT
UID:69e890f28998d
SUMMARY:M'goun Hike & Ride | Juillet 2019
DESCRIPTION:[widgetkit id=\"67\" name=\"Slideshow - aperçu - M'goun - FR\"
 ]
DTSTART:20190728T070000Z
DTEND:20190805T100000Z
DTSTAMP:20260422T111218Z
ORGANIZER;CN=Exoride:MAILTO:webmaster@exoride.net
END:VEVENT
END:VCALENDAR